Workbook

Sheet 実施計画（請負人）
R1: （様式１）
A2: 快適トイレ実施計画（施工計画書添付用） | T2: 黄色セルに記入してください。
A3: 令和8年10月1日適用版 | N3: 令和 年 月 日
A4: 工 事 名 | F4: 〇〇〇〇〇〇〇〇〇工事
A5: 請 負 人 | F5: □□□□□建設株式会社
A6: 工 事 期 間 | F6: 自 ： | J6: 46204
F7: 至 ： | J7: 46843
A8: 快適トイレ設置 予 定 期 間 | F8: 自 ： | J8: 46310
F9: 至 ： | J9: 46744
F10: 期間（Ａ） | J10: =DATEDIF(J8,J9,"m") -> 14 | L10: カ月 | M10: =DATEDIF(J8,J9,"md") -> 8 | O10: 日間 | P10: =J10+ROUND(M10/30,1) -> 14.3
A11: レンタル会社名 | F11: △△△△リース株式会社
A12: メーカー名 | F12: ☆☆☆☆☆☆
A13: 製品名（型式） | F13: ◇◇◇◇トイレ（Ａー１２３４）
A14: 快適トイレ費用 （予定・見積） | F14: 設置基数（Ｂ) | K14: 5 | P14: 基
F15: 予定費用（Ｃ) | K15: 3000000 | P15: 円
F16: １基当たり 予定月額費用（Ｄ） 〔Ｃ／（Ａ×Ｂ）〕 | K16: =ROUNDDOWN(K15/(P10*K14),0) -> 41958 | P16: 円／基・月
F18: 予定月額費用（Ｅ） | K18: =K14*K16 -> 209790 | P18: 円／月
A20: 快適トイレの仕様 | P20: 請負人
A21: 必ず実施するもの | B21: 標準仕様及び付属品【必須】
B22: ① 洋式（洋風）便器 | P22: TRUE | T22: =P22 -> TRUE
B23: ② 水洗及び簡易水洗機能（し尿処理装置付き含む） | P23: TRUE | T23: =P23 -> TRUE
B24: ③ 臭い逆流防止機能 | P24: TRUE | T24: =P24 -> TRUE
B25: ④ 容易に開かない施錠機能 | P25: TRUE | T25: =P25 -> TRUE
B26: ⑤ 照明設備 | P26: TRUE | T26: =P26 -> TRUE
B27: ⑥ 衣類掛け等のフック、又は、荷物の置ける棚等（耐荷重を５kg以上） | P27: TRUE | T27: =P27 -> TRUE
B28: ⑦ 現場に男女がいる場合に男女別の明確な表示 | P28: TRUE | T28: =P28 -> TRUE
B29: ⑧ 周囲からトイレの入口が直接見えない工夫 | P29: TRUE | T29: =P29 -> TRUE
B30: ⑨ サニタリーボックス（女性用トイレに必ず設置） | P30: TRUE | T30: =P30 -> TRUE
B31: ⑩ 鏡と手洗器 | P31: TRUE | T31: =P31 -> TRUE
B32: ⑪ 便座除菌クリーナー等の衛生用品 | P32: TRUE | T32: =P32 -> TRUE
A33: より快適とするもの （実施は任意） | B33: 推奨する仕様及び付属品【推奨】
B34: ⑫ 室内寸法900×900mm以上（面積ではない） | P34: FALSE | T34: =P34 -> FALSE
B35: ⑬ 擬音装置（機能を含む） | P35: FALSE | T35: =P35 -> FALSE
B36: ⑭ 着替え台 | P36: FALSE | T36: =P36 -> FALSE
B37: ⑮ 臭気対策機能の多重化 | P37: FALSE | T37: =P37 -> FALSE
B38: ⑯ 室内温度の調整が可能な設備 | P38: FALSE | T38: =P38 -> FALSE
B39: ⑰ 小物置き場（トイレットペーパー予備置き場等） | P39: FALSE | T39: =P39 -> FALSE
O41: 快適トイレ自動判定 | P41: =IF(AND(T22:T32)=TRUE,"〇","×") -> 〇
C43: ※予定費用は、基本料金＋月あたりリース料×リース期間

Sheet チェックシート（監督員）
R1: （様式２）
A2: 快適トイレチェックシート | T2: 黄色セルに記入してください。
A3: 令和8年10月1日適用版
A4: 工 事 名 | F4: ='実施計画（請負人）'!F4 -> 〇〇〇〇〇〇〇〇〇工事
A5: 請 負 人 | F5: ='実施計画（請負人）'!F5 -> □□□□□建設株式会社
A6: 工 事 期 間 | F6: 自 ： | J6: ='実施計画（請負人）'!J6 -> 46204
F7: 至 ： | J7: ='実施計画（請負人）'!J7 -> 46843
A8: 快適トイレ設置 予 定 期 間 | F8: 自 ： | J8: ='実施計画（請負人）'!J8 -> 46310
F9: 至 ： | J9: ='実施計画（請負人）'!J9 -> 46744
A10: レンタル会社名 | F10: ='実施計画（請負人）'!F11 -> △△△△リース株式会社
A11: メーカー名 | F11: ='実施計画（請負人）'!F12 -> ☆☆☆☆☆☆
A12: 製品名（型式） | F12: ='実施計画（請負人）'!F13 -> ◇◇◇◇トイレ（Ａー１２３４）
A14: 快適トイレの仕様 | P14: 監督員
A15: 必ず実施するもの | B15: 標準仕様及び付属品【必須】
B16: ① 洋式（洋風）便器 | P16: TRUE | T16: =P16 -> TRUE
B17: ② 水洗及び簡易水洗機能（し尿処理装置付き含む） | P17: TRUE | T17: =P17 -> TRUE
B18: ③ 臭い逆流防止機能 | P18: TRUE | T18: =P18 -> TRUE
B19: ④ 容易に開かない施錠機能 | P19: TRUE | T19: =P19 -> TRUE
B20: ⑤ 照明設備 | P20: TRUE | T20: =P20 -> TRUE
B21: ⑥ 衣類掛け等のフック、又は、荷物の置ける棚等（耐荷重を５kg以上） | P21: TRUE | T21: =P21 -> TRUE
B22: ⑦ 現場に男女がいる場合に男女別の明確な表示 | P22: TRUE | T22: =P22 -> TRUE
B23: ⑧ 周囲からトイレの入口が直接見えない工夫 | P23: TRUE | T23: =P23 -> TRUE
B24: ⑨ サニタリーボックス（女性用トイレに必ず設置） | P24: TRUE | T24: =P24 -> TRUE
B25: ⑩ 鏡と手洗器 | P25: TRUE | T25: =P25 -> TRUE
B26: ⑪ 便座除菌クリーナー等の衛生用品 | P26: TRUE | T26: =P26 -> TRUE
A27: より快適とするもの （実施は任意） | B27: 推奨する仕様及び付属品【推奨】
B28: ⑫ 室内寸法900×900mm以上（面積ではない） | P28: FALSE | T28: =P28 -> FALSE
B29: ⑬ 擬音装置（機能を含む） | P29: FALSE | T29: =P29 -> FALSE
B30: ⑭ 着替え台 | P30: FALSE | T30: =P30 -> FALSE
B31: ⑮ 臭気対策機能の多重化 | P31: FALSE | T31: =P31 -> FALSE
B32: ⑯ 室内温度の調整が可能な設備 | P32: FALSE | T32: =P32 -> FALSE
B33: ⑰ 小物置き場（トイレットペーパー予備置き場等） | P33: FALSE | T33: =P33 -> FALSE
B35: 職名・監督員氏名 | F35: ： | G35: 技師・〇〇 〇〇
B36: 設 置 基 数 | F36: ： | I36: 5 | J36: 基
B37: 確 認 年 月 日 | F37: ： | G37: 令和〇年〇月〇日
B38: 快適トイレ判定 | F38: ： | G38: =IF(AND(T16:T26)=TRUE,"快適トイレとして確認しました。","快適トイレとして認めません。") -> 快適トイレとして確認しました。 | T38: ←①～⑪に監督員がチェックを入れると「確認しました」が表示されます。

Sheet 報告書（請負人）
R1: （様式３）
A2: 快適トイレ報告書 | T2: 黄色セルに記入してください。
A3: 令和8年10月1日適用版 | N3: 令和 年 月 日
A4: 工 事 名 | F4: ='実施計画（請負人）'!F4 -> 〇〇〇〇〇〇〇〇〇工事
A5: 請 負 人 | F5: ='実施計画（請負人）'!F5 -> □□□□□建設株式会社
A6: 工 事 期 間 | F6: 自 ： | J6: ='実施計画（請負人）'!J6 -> 46204
F7: 至 ： | J7: 46843
A8: 快適トイレ設置 実 施 期 間 | F8: 自 ： | J8: 46318
F9: 至 ： | J9: 46736
F10: 期間（Ａ） | J10: =DATEDIF(J8,J9,"m") -> 13 | L10: カ月 | M10: =DATEDIF(J8,J9,"md") -> 22 | O10: 日間 | P10: =J10+ROUND(M10/30,1) -> 13.7
A11: レンタル会社名 | F11: ='実施計画（請負人）'!F11 -> △△△△リース株式会社
A12: メーカー名 | F12: ='実施計画（請負人）'!F12 -> ☆☆☆☆☆☆
A13: 製品名（型式） | F13: ='実施計画（請負人）'!F13 -> ◇◇◇◇トイレ（Ａー１２３４）
A14: 快適トイレ費用 （予定・見積） | F14: 設置基数（Ｂ) | K14: 5 | P14: 基
F15: 実施費用（Ｃ) | K15: 3000000 | P15: 円
F16: １基当たり 月換算の月額費用（Ｄ） 〔Ｃ／（Ａ×Ｂ）〕 | K16: =IF(K15="","",ROUNDDOWN(K15/(P10*K14),0)) -> 43795 | P16: 円／基・月
F18: １基当たり 積算上の差額（Ｅ） 〔Ｄ-10,000〕 | K18: =IF(K16>10000,IF(K15="","",K16-10000),0) -> 33795 | P18: 円／基・月
F20: １基当たり 積算計上額（Ｆ） 〔上限57,000円/基・月〕 | K20: =IF(K15="","",IF(K18>57000,57000,K18)) -> 33795 | P20: 円／基・月
F22: 月当たり（Ｇ） 積算計上額（Ｂ×Ｆ） | K22: =IF(K15="","",K14*K20) -> 168975 | P22: 円／月
A24: 快適トイレ実施費用（Ａ×Ｇ）円止め | K24: =IF(K15="","",ROUNDDOWN(K22*P10,0)) -> 2314957 | P24: 円
A28: ・ | B28: １か月未満の端日数分については、３０日／月にて除した値に小数点以下 第２位を四捨五入して１位止めとする。
A30: ・ | B30: 実施費用は、原則として請求書とするが、見込費用が分かるものでもよい。
A31: ・ | B31: 実施費用は、賃料（基本料金相当＋月当たりリース料×リース期間）である。
A32: ・ | B32: 運搬・設置費等は、実施費用に計上しない。
A33: ・ | B33: 実施費用が分かる資料を裏面に添付（複写）すること。
A34: ・ | B34: トイレ全景の写真を裏面に添付すること。
A35: ・ | B35: 快適トイレ合計額である実施費用は、円止め以下切り捨てとする。
R42: （様式３・裏面）
B43: 実施費用が分かる資料を添付（複写）すること
D53: 実施費用資料添付
E73: 写真添付
